BEGIN:VCALENDAR
VERSION:2.0
PRODID:-//wp-events-plugin.com//7.2.3.1//EN
TZID:Europe/Berlin
X-WR-TIMEZONE:Europe/Berlin
BEGIN:VEVENT
UID:485@eft-berlin.de
DTSTART;TZID=Europe/Berlin:20250125T100000
DTEND;TZID=Europe/Berlin:20250125T170000
DTSTAMP:20240403T221013Z
URL:https://www.eft-berlin.de/events/ttt-anti-stress-12/
SUMMARY:TTT Anti-Stress
DESCRIPTION:Online-Teilnahme möglich!\nEinfache Hilfe bei großem bis extr
 emen Stress! Zum Programm...\nTeilnahme-Voraussetzung: keine\nHast Du bere
 its ein Konto bei uns?\n\nFalls Du Dich bei uns schon einmal zu einer Vera
 nstaltung angemeldet hast\, wurde automatisch ein Konto für Dich erstellt
 . Bitte melde Dich dann erst bei Deinem Konto an!
CATEGORIES:TTT-Anti-Stress-Seminare
LOCATION:EFT-Institut Berlin\, Hohenfriedbergstr. 16\, Berlin\, 10829\, Sch
 öneberg\, Deutschland
X-APPLE-STRUCTURED-LOCATION;VALUE=URI;X-ADDRESS=Hohenfriedbergstr. 16\, Ber
 lin\, 10829\, Schöneberg\, Deutschland;X-APPLE-RADIUS=100;X-TITLE=EFT-Ins
 titut Berlin:geo:0,0
END:VEVENT
BEGIN:VTIMEZONE
TZID:Europe/Berlin
X-LIC-LOCATION:Europe/Berlin
BEGIN:STANDARD
DTSTART:20241027T020000
TZOFFSETFROM:+0200
TZOFFSETTO:+0100
TZNAME:CET
END:STANDARD
END:VTIMEZONE
END:VCALENDAR