BEGIN:VCALENDAR
VERSION:2.0
PRODID:-//wp-events-plugin.com//7.2.3.1//EN
TZID:Europe/Berlin
X-WR-TIMEZONE:Europe/Berlin
BEGIN:VEVENT
UID:214@eft-berlin.de
DTSTART;TZID=Europe/Berlin:20210106T190000
DTEND;TZID=Europe/Berlin:20210106T210000
DTSTAMP:20201230T082439Z
URL:https://www.eft-berlin.de/events/info-und-erlebnis-abend-25/
SUMMARY:Info- und Erlebnis-Abend
DESCRIPTION:EFT Klopfakupressur selbst erleben!
CATEGORIES:Infoabende
END:VEVENT
BEGIN:VTIMEZONE
TZID:Europe/Berlin
X-LIC-LOCATION:Europe/Berlin
BEGIN:STANDARD
DTSTART:20201025T020000
TZOFFSETFROM:+0200
TZOFFSETTO:+0100
TZNAME:CET
END:STANDARD
END:VTIMEZONE
END:VCALENDAR